BEGIN:VCALENDAR
VERSION:2.0
PRODID:-//NZCCA - ECPv4.6.8//NONSGML v1.0//EN
CALSCALE:GREGORIAN
METHOD:PUBLISH
X-WR-CALNAME:NZCCA
X-ORIGINAL-URL:http://www.nzcca.org.nz
X-WR-CALDESC:Events for NZCCA
BEGIN:VEVENT
DTSTART;TZID=Pacific/Auckland:20180212T090000
DTEND;TZID=Pacific/Auckland:20180213T170000
DTSTAMP:20180124T041416
CREATED:20171213T125552Z
LAST-MODIFIED:20171213T125552Z
UID:1357-1518379200-1518494400@www.nzcca.org.nz
SUMMARY:Working With Couples - A Practical Grounding - Auckland
DESCRIPTION:
URL:http://www.nzcca.org.nz/event/working-with-couples-a-practical-grounding-auckland/
LOCATION:One Tree Hill Domain\, AUCKLAND\, New Zealand
ATTACH;FMTTYPE=image/jpeg:http://www.nzcca.org.nz/wp-content/uploads/2017/12/WWCadC.jpg
END:VEVENT
BEGIN:VEVENT
DTSTART;TZID=Pacific/Auckland:20180406T090000
DTEND;TZID=Pacific/Auckland:20180407T170000
DTSTAMP:20180124T041416
CREATED:20171212T133703Z
LAST-MODIFIED:20180119T132323Z
UID:1348-1522962000-1523077200@www.nzcca.org.nz
SUMMARY:Imago Relationship Therapy - Two Day Training - Christchurch
DESCRIPTION:
URL:http://www.nzcca.org.nz/event/imago-relationship-therapy-two-day-training-christchurch/
LOCATION:29 Yaldhurst Rd\, CHRISTCHURCH\, New Zealand
ATTACH;FMTTYPE=image/jpeg:http://www.nzcca.org.nz/wp-content/uploads/2017/12/Two-Day-Imago-Relationship-Therapy-Training-2018.jpg
ORGANIZER;CN="Imago%20Institute%20for%20Relationships":MAILTO:info@relationships.co.nz
END:VEVENT
BEGIN:VEVENT
DTSTART;TZID=Pacific/Auckland:20180420T090000
DTEND;TZID=Pacific/Auckland:20180421T150000
DTSTAMP:20180124T041416
CREATED:20180123T203303Z
LAST-MODIFIED:20180123T203422Z
UID:1468-1524171600-1524279600@www.nzcca.org.nz
SUMMARY:Changing Troubling Behaviours Through New Reputations - Mt Maunganui
DESCRIPTION:Click here for the flyer \n
URL:http://www.nzcca.org.nz/event/changing-troubling-behaviours-through-new-reputations-mt-maunganui/
LOCATION:Glouster Road\, Mt Maunganui\, New Zealand
ATTACH;FMTTYPE=image/jpeg:http://www.nzcca.org.nz/wp-content/uploads/2018/01/April-20th-21st-Workshop_-003.jpg
ORGANIZER;CN="New%20Stories%20of%20Identity":MAILTO:newstoriesofidentity@gmail.com
END:VEVENT
BEGIN:VEVENT
DTSTART;TZID=Pacific/Auckland:20180507T090000
DTEND;TZID=Pacific/Auckland:20180508T163000
DTSTAMP:20180124T041416
CREATED:20171127T152450Z
LAST-MODIFIED:20171201T100635Z
UID:1324-1525640400-1525753800@www.nzcca.org.nz
SUMMARY:Acceptance and Commitment Therapy (ACT) - Wellington
DESCRIPTION:Wellington ACT Centre presents\nACCEPTANCE AND COMMITMENT THERAPY\nAn Introduction for Clinicians\nWith Ben Sedley and Giselle Bahr \nMonday 7 May and Tuesday 8 May\, 2018 in Wellington \nAcceptance and Commitment Therapy (ACT) is growing in popularity and there is increasing research support for a large range of diagnoses and life problems. It combines mindfulness and behavioural principles to help clients make space for painful thoughts and feelings\, bring their focus to the present moment and take steps towards the life they value. \nThis fun and engaging two day experiential workshop will:\n• Teach strategies to help your clients hold their painful thoughts and emotions gently and with compassion.\n• Demonstrate ways for you and your clients to identify values and actively move towards these.\n• Draw on mindfulness strategies to increase awareness of the present moment.\n• Review the theory and research base for ACT.\n• Focus on the therapeutic relationship so support can be provided in a compassionate and flexible manner.\n• Practice formulating life struggles from an ACT perspective.\n• Provide many opportunities to practice ACT exercises and relate the concepts back to participants’ own lives and clinical experiences. \nThis workshop is designed for a broad range of professionals including psychologists\, psychiatrists\, GPs\, therapists\, counsellors\, social workers\, mental health nurses and physiotherapists. No prior ACT training is necessary. \nGiselle Bahr and Ben Sedley are clinical psychologists and co-founders of the Wellington ACT Centre. They have been using Acceptance and Commitment Therapy in their practice for over eight years\, and have been trained and supervised by many of the world’s leading ACT therapists and researchers. Giselle and Ben have both worked at Child and Adolescent Mental Health Services\, in Private Practice with adults and adolescents\, and trained new clinical psychology students at Victoria University of Wellington. Giselle has developed and facilitated a group introducing ACT to Parents. Ben is the author of the book Stuff that Sucks: Accepting what you can’t change and Committing to what you can. \n$450 ($495 after 9 April)\nMonday: 9:00am – 4.30pm\nTuesday: 9:00am – 4:00pm\nCQ Hotel\, 223 Cuba St\, Te Aro\, Wellington \nFor further information contact hello@actwellington.co.nz  \nClick here for the training brochure \n  \nTo book go here: https://www.eventbrite.com/e/acceptance-and-commitment-therapy-introductory-workshop-tickets-37984983107 \n
URL:http://www.nzcca.org.nz/event/acceptance-and-commitment-therapy-act-wellington/
LOCATION:223 Cuba St\, Wellington\, New Zealand
END:VEVENT
BEGIN:VEVENT
DTSTART;TZID=Pacific/Auckland:20180511T090000
DTEND;TZID=Pacific/Auckland:20180512T170000
DTSTAMP:20180124T041416
CREATED:20171212T133858Z
LAST-MODIFIED:20180119T111512Z
UID:1351-1525986000-1526101200@www.nzcca.org.nz
SUMMARY:Imago Relationship Therapy - Two Day Training - Auckland
DESCRIPTION:
URL:http://www.nzcca.org.nz/event/imago-relationship-therapy-two-day-training-auckland/
LOCATION:40 Vermont Street\, Ponsonby\, New Zealand
ATTACH;FMTTYPE=image/jpeg:http://www.nzcca.org.nz/wp-content/uploads/2017/12/Two-Day-Imago-Relationship-Therapy-Training-2018.jpg
ORGANIZER;CN="Imago%20Institute%20for%20Relationships":MAILTO:info@relationships.co.nz
END:VEVENT
BEGIN:VEVENT
DTSTART;TZID=Pacific/Auckland:20180524T090000
DTEND;TZID=Pacific/Auckland:20180525T170000
DTSTAMP:20180124T041416
CREATED:20171212T134024Z
LAST-MODIFIED:20180119T111451Z
UID:1353-1527109200-1527224400@www.nzcca.org.nz
SUMMARY:Imago Relationship Therapy - Two Day Training - Wellington
DESCRIPTION:
URL:http://www.nzcca.org.nz/event/imago-relationship-therapy-two-day-training-wellington/
LOCATION:30 The Terrace\, Wellington\, New Zealand
ATTACH;FMTTYPE=image/jpeg:http://www.nzcca.org.nz/wp-content/uploads/2017/12/Two-Day-Imago-Relationship-Therapy-Training-2018.jpg
ORGANIZER;CN="Imago%20Institute%20for%20Relationships":MAILTO:info@relationships.co.nz
END:VEVENT
BEGIN:VEVENT
DTSTART;TZID=Pacific/Auckland:20180607T090000
DTEND;TZID=Pacific/Auckland:20180608T170000
DTSTAMP:20180124T041416
CREATED:20171212T134133Z
LAST-MODIFIED:20180119T111424Z
UID:1355-1528318800-1528434000@www.nzcca.org.nz
SUMMARY:Imago Relationship Therapy - Two Day Training - Hamilton
DESCRIPTION:
URL:http://www.nzcca.org.nz/event/imago-relationship-therapy-two-day-training-hamilton/
LOCATION:83 Houchen Road\, Hamilton\, New Zealand
ATTACH;FMTTYPE=image/jpeg:http://www.nzcca.org.nz/wp-content/uploads/2017/12/Two-Day-Imago-Relationship-Therapy-Training-2018.jpg
ORGANIZER;CN="Imago%20Institute%20for%20Relationships":MAILTO:info@relationships.co.nz
END:VEVENT
END:VCALENDAR